BEGIN:VCALENDAR
VERSION:2.0
PRODID:-//Packard Proving Grounds Historic Site Gift Shop - ECPv6.15.20//NONSGML v1.0//EN
CALSCALE:GREGORIAN
METHOD:PUBLISH
X-WR-CALNAME:Packard Proving Grounds Historic Site Gift Shop
X-ORIGINAL-URL:https://packardprovinggrounds.org
X-WR-CALDESC:Events for Packard Proving Grounds Historic Site Gift Shop
REFRESH-INTERVAL;VALUE=DURATION:PT1H
X-Robots-Tag:noindex
X-PUBLISHED-TTL:PT1H
BEGIN:VTIMEZONE
TZID:UTC
BEGIN:STANDARD
TZOFFSETFROM:+0000
TZOFFSETTO:+0000
TZNAME:UTC
DTSTART:20230101T000000
END:STANDARD
END:VTIMEZONE
BEGIN:VEVENT
DTSTART;TZID=UTC:20240406T180000
DTEND;TZID=UTC:20240406T230000
DTSTAMP:20260422T215128
CREATED:20240219T145413Z
LAST-MODIFIED:20240415T191639Z
UID:264-1712426400-1712444400@packardprovinggrounds.org
SUMMARY:Great Gatsby Gala Fundraiser
DESCRIPTION:The Great Gatsby Gala Fundraiser\nSaturday\, April 6th\, 2024\, from 6 PM – 11 PM. \nDinner\, drinks\, music\, and dancing. Black tie or 1920s attire required. 21+ only. \nIndividual tickets\, Tables for 8\, and Sponsorships are available at https://packardprovinggrounds.org/greatgatsby/. \nEvent proceeds benefit erecting a new Maintenance Building in continuing the Packard Motor Car Foundation’s efforts to restore the property to its original glory.
URL:https://packardprovinggrounds.org/event/great-gatsby-gala-fundraiser/
LOCATION:Packard Proving Grounds Historic Site\, 49965 Van Dyke Ave\, Shelby Township\, MI\, 48317\, United States
CATEGORIES:Fundraiser
ATTACH;FMTTYPE=image/jpeg:https://packardprovinggrounds.org/wp-content/uploads/2024/02/24Gatsby-WebBanner4.jpg
END:VEVENT
BEGIN:VEVENT
DTSTART;VALUE=DATE:20240323
DTEND;VALUE=DATE:20240325
DTSTAMP:20260422T215128
CREATED:20240219T145512Z
LAST-MODIFIED:20240219T151755Z
UID:268-1711152000-1711324799@packardprovinggrounds.org
SUMMARY:Wood Carving Show
DESCRIPTION:METRO CARVERS OF MICHIGAN\nPresents the 42nd Artistic Creations in Wood \n\nCarvings for sale\n(Wood\, tools & supplies also available)\nRaffle and door prizes\nPeople’s Choice competition\n(Vote for your favorite carving)\n\nContact Sharon Hill 586-557-3712\nsharon0229@att.net
URL:https://packardprovinggrounds.org/event/wood-carving-show/
LOCATION:Packard Proving Grounds Historic Site\, 49965 Van Dyke Ave\, Shelby Township\, MI\, 48317\, United States
CATEGORIES:Wood Carving
ATTACH;FMTTYPE=image/jpeg:https://packardprovinggrounds.org/wp-content/uploads/2024/02/metrocarvers.jpg
END:VEVENT
END:VCALENDAR