BEGIN:VCALENDAR
VERSION:2.0
PRODID:-//Packard Proving Grounds Historic Site Gift Shop - ECPv6.15.20//NONSGML v1.0//EN
CALSCALE:GREGORIAN
METHOD:PUBLISH
X-WR-CALNAME:Packard Proving Grounds Historic Site Gift Shop
X-ORIGINAL-URL:https://packardprovinggrounds.org
X-WR-CALDESC:Events for Packard Proving Grounds Historic Site Gift Shop
REFRESH-INTERVAL;VALUE=DURATION:PT1H
X-Robots-Tag:noindex
X-PUBLISHED-TTL:PT1H
BEGIN:VTIMEZONE
TZID:UTC
BEGIN:STANDARD
TZOFFSETFROM:+0000
TZOFFSETTO:+0000
TZNAME:UTC
DTSTART:20230101T000000
END:STANDARD
END:VTIMEZONE
BEGIN:VEVENT
DTSTART;TZID=UTC:20250316T130000
DTEND;TZID=UTC:20250316T140000
DTSTAMP:20260421T040707
CREATED:20250113T190826Z
LAST-MODIFIED:20250203T181950Z
UID:48518-1742130000-1742133600@packardprovinggrounds.org
SUMMARY:Historical Speaker Series - Albert Kahn and Packard;  Getting the Packards on the Road
DESCRIPTION:Not a member yet? Click hereSign up for monthly email newsletter to be the first to know about upcoming PPG events. \nPurchase tickets for the March 16th event
URL:https://packardprovinggrounds.org/event/historical-speaker-series-march-16/
LOCATION:Packard Proving Grounds Historic Site\, 49965 Van Dyke Ave\, Shelby Township\, MI\, 48317\, United States
CATEGORIES:Chic & Unique,Historical Speaker Series
ATTACH;FMTTYPE=image/jpeg:https://packardprovinggrounds.org/wp-content/uploads/2025/01/Mar16-HSS-featured.jpg
END:VEVENT
BEGIN:VEVENT
DTSTART;TZID=UTC:20250309T130000
DTEND;TZID=UTC:20250309T140000
DTSTAMP:20260421T040707
CREATED:20250131T152001Z
LAST-MODIFIED:20250203T182050Z
UID:48616-1741525200-1741528800@packardprovinggrounds.org
SUMMARY:Historical Speaker Series - Electric Vehicles - Why-Why Not?
DESCRIPTION:Not a member yet? Click hereSign up for monthly email newsletter to be the first to know about upcoming PPG events. \nPurchase tickets for the February 16th event
URL:https://packardprovinggrounds.org/event/historical-speaker-series-march-9/
LOCATION:Packard Proving Grounds Historic Site\, 49965 Van Dyke Ave\, Shelby Township\, MI\, 48317\, United States
CATEGORIES:Chic & Unique,Historical Speaker Series
ATTACH;FMTTYPE=image/jpeg:https://packardprovinggrounds.org/wp-content/uploads/2025/01/2025-HSS-featured-3-9.jpg
END:VEVENT
BEGIN:VEVENT
DTSTART;TZID=UTC:20250302T130000
DTEND;TZID=UTC:20250302T140000
DTSTAMP:20260421T040707
CREATED:20241130T153852Z
LAST-MODIFIED:20250217T202832Z
UID:48067-1740920400-1740924000@packardprovinggrounds.org
SUMMARY:Historical Speaker Series - The Mill Builder and Inventor from Macomb County
DESCRIPTION:Not a member yet? Click hereSign up for monthly email newsletter to be the first to know about upcoming PPG events. \nPurchase tickets for the March 2nd event\nCOMING SOON \n 
URL:https://packardprovinggrounds.org/event/historical-speaker-series-march-2/
LOCATION:Packard Proving Grounds Historic Site\, 49965 Van Dyke Ave\, Shelby Township\, MI\, 48317\, United States
CATEGORIES:Chic & Unique,Historical Speaker Series
ATTACH;FMTTYPE=image/jpeg:https://packardprovinggrounds.org/wp-content/uploads/2024/11/2025-HSS-featured-2-16.jpg
END:VEVENT
BEGIN:VEVENT
DTSTART;TZID=UTC:20250223T130000
DTEND;TZID=UTC:20250223T150000
DTSTAMP:20260421T040707
CREATED:20250206T233719Z
LAST-MODIFIED:20250212T163456Z
UID:48653-1740315600-1740322800@packardprovinggrounds.org
SUMMARY:Farmers Market Bootcamp
DESCRIPTION:Purchase Tickets Now\n \n\n \n 
URL:https://packardprovinggrounds.org/event/sfm-bootcamp/
LOCATION:Shelby Farmers Market at the Packard Proving Grounds Historic Site\, 49965 Van Dyke Ave\, Shelby Township\, MI\, 48317\, United States
CATEGORIES:Shelby Farmers Market
ATTACH;FMTTYPE=image/jpeg:https://packardprovinggrounds.org/wp-content/uploads/2025/02/SFM-bootcamp-featured.jpg
END:VEVENT
BEGIN:VEVENT
DTSTART;TZID=UTC:20250202T130000
DTEND;TZID=UTC:20250202T140000
DTSTAMP:20260421T040707
CREATED:20241130T153608Z
LAST-MODIFIED:20250203T133221Z
UID:48060-1738501200-1738504800@packardprovinggrounds.org
SUMMARY:Historical Speaker Series - Tetanus in WWI and the Horses Who Saved Lives
DESCRIPTION:Not a member yet? Click hereSign up for monthly email newsletter to be the first to know about upcoming PPG events. \nPurchase tickets for the February 2nd event
URL:https://packardprovinggrounds.org/event/historical-speaker-series-february-2/
LOCATION:Packard Proving Grounds Historic Site\, 49965 Van Dyke Ave\, Shelby Township\, MI\, 48317\, United States
CATEGORIES:Chic & Unique,Historical Speaker Series
ATTACH;FMTTYPE=image/jpeg:https://packardprovinggrounds.org/wp-content/uploads/2024/11/2025-HSS-featured-2-2.jpg
END:VEVENT
BEGIN:VEVENT
DTSTART;TZID=UTC:20250121T120000
DTEND;TZID=UTC:20250121T180000
DTSTAMP:20260421T040707
CREATED:20240219T144228Z
LAST-MODIFIED:20240909T170203Z
UID:239-1737460800-1737482400@packardprovinggrounds.org
SUMMARY:Red Cross Blood Drive
DESCRIPTION:Each pint of blood we collect can help save up to three lives and will touch the lives of so many more. What a great way to pay it forward and make an impact on people in our community and across the country. We are very excited about the drive\, and we hope you are too. \nTo save time\, please visit the Red Cross website to fill out your questionnaire and/or schedule your appointment. \n https://www.redcrossblood.org/give.html/drive-results?zipSponsor=packardpg
URL:https://packardprovinggrounds.org/event/red-cross-blood-drive-1-30-25/
LOCATION:Packard Proving Grounds Historic Site\, 49965 Van Dyke Ave\, Shelby Township\, MI\, 48317\, United States
CATEGORIES:Blood Drive
ATTACH;FMTTYPE=image/jpeg:https://packardprovinggrounds.org/wp-content/uploads/2024/02/Red-Cross-Blood-Drive.jpg
END:VEVENT
BEGIN:VEVENT
DTSTART;TZID=UTC:20250119T130000
DTEND;TZID=UTC:20250119T140000
DTSTAMP:20260421T040707
CREATED:20241130T152356Z
LAST-MODIFIED:20250203T133236Z
UID:48055-1737291600-1737295200@packardprovinggrounds.org
SUMMARY:Historical Speaker Series - The Lost Villages of Macomb County
DESCRIPTION:Not a member yet? Click hereSign up for monthly email newsletter to be the first to know about upcoming PPG events. \nPurchase tickets for the January 19th event
URL:https://packardprovinggrounds.org/event/historical-speaker-series-january-19/
LOCATION:Packard Proving Grounds Historic Site\, 49965 Van Dyke Ave\, Shelby Township\, MI\, 48317\, United States
CATEGORIES:Chic & Unique,Historical Speaker Series
ATTACH;FMTTYPE=image/jpeg:https://packardprovinggrounds.org/wp-content/uploads/2024/11/2025-HSS-featured-1-19.jpg
END:VEVENT
BEGIN:VEVENT
DTSTART;TZID=UTC:20250105T140000
DTEND;TZID=UTC:20250105T150000
DTSTAMP:20260421T040707
CREATED:20240926T183256Z
LAST-MODIFIED:20250203T133244Z
UID:47677-1736085600-1736089200@packardprovinggrounds.org
SUMMARY:Historical Speaker Series - January 5\, 2025
DESCRIPTION:Not a member yet? Click hereSign up for monthly email newsletter to be the first to know about upcoming PPG events. \nPurchase tickets for the January 5th event
URL:https://packardprovinggrounds.org/event/historical-speaker-series-january/
LOCATION:Packard Proving Grounds Historic Site\, 49965 Van Dyke Ave\, Shelby Township\, MI\, 48317\, United States
CATEGORIES:Chic & Unique,Historical Speaker Series
ATTACH;FMTTYPE=image/jpeg:https://packardprovinggrounds.org/wp-content/uploads/2024/09/2025-HSS-featured-1.jpg
END:VEVENT
BEGIN:VEVENT
DTSTART;TZID=UTC:20241220T170000
DTEND;TZID=UTC:20241220T210000
DTSTAMP:20260421T040707
CREATED:20241028T134804Z
LAST-MODIFIED:20241028T141758Z
UID:47817-1734714000-1734728400@packardprovinggrounds.org
SUMMARY:‘Twas a Night Before Christmas 1939
DESCRIPTION:Purchase Tickets
URL:https://packardprovinggrounds.org/event/twas-a-night-before-christmas-1939/
LOCATION:Packard Proving Grounds Historic Site\, 49965 Van Dyke Ave\, Shelby Township\, MI\, 48317\, United States
CATEGORIES:Chic & Unique
ATTACH;FMTTYPE=image/jpeg:https://packardprovinggrounds.org/wp-content/uploads/2024/10/2024-Christmas39-featured.jpg
END:VEVENT
BEGIN:VEVENT
DTSTART;TZID=UTC:20241110T130000
DTEND;TZID=UTC:20241110T140000
DTSTAMP:20260421T040707
CREATED:20240912T182828Z
LAST-MODIFIED:20241028T132645Z
UID:47630-1731243600-1731247200@packardprovinggrounds.org
SUMMARY:Historical Speaker Series
DESCRIPTION:Not a member yet? Click hereSign up for monthly email newsletter to be the first to know about upcoming PPG events. \nPurchase tickets for the November event\n \n\n \n  \n 
URL:https://packardprovinggrounds.org/event/historical-speaker-series/
LOCATION:Packard Proving Grounds Historic Site\, 49965 Van Dyke Ave\, Shelby Township\, MI\, 48317\, United States
CATEGORIES:Chic & Unique
ATTACH;FMTTYPE=image/jpeg:https://packardprovinggrounds.org/wp-content/uploads/2024/09/2024-HSS-featured-nov.jpg
END:VEVENT
BEGIN:VEVENT
DTSTART;TZID=UTC:20241101T180000
DTEND;TZID=UTC:20241101T230000
DTSTAMP:20260421T040707
CREATED:20241029T124531Z
LAST-MODIFIED:20241029T124708Z
UID:47844-1730484000-1730502000@packardprovinggrounds.org
SUMMARY:Day of the Death
DESCRIPTION:
URL:https://packardprovinggrounds.org/event/day-of-the-death/
LOCATION:MI
CATEGORIES:Chic & Unique
ATTACH;FMTTYPE=image/jpeg:https://packardprovinggrounds.org/wp-content/uploads/2024/10/DIA-DE-LOS-MUERTOS-featured.jpg
END:VEVENT
BEGIN:VEVENT
DTSTART;TZID=UTC:20241020T150000
DTEND;TZID=UTC:20241020T180000
DTSTAMP:20260421T040707
CREATED:20240520T144104Z
LAST-MODIFIED:20241031T132406Z
UID:46851-1729436400-1729447200@packardprovinggrounds.org
SUMMARY:1956 Packard Patrician Raffle
DESCRIPTION:• 44k original miles!\n• Column selector!\n• Good Running Car! \nWinning ticket will be drawn on Sunday\, Oct 20th at the PPG Annual Fall Open House @ 3pm\nTickets $30 Each or 2 for $50\nPurchase tickets at: \n\nShelby Farmers Market on Saturdays 9am-2pm May 18 – Oct 19\nSunday June 9th at the Cars‘R’Stars car show 8am-3pm\nEasy Rodders car show on July 21st 8am-3pm\nStop in at the PPG office\, We’re open everyday 9am-3pm\nOr purchase online below\n\nMaximum of 3\,000 tickets to be sold. If minimum of 1\,500 tickets are not sold\, this will be a 60/40 raffle. License #R75422 \nAll proceeds benefit the Packard Motor Car Foundation 501c3
URL:https://packardprovinggrounds.org/event/1956-packard-patrician-raffle/
LOCATION:Packard Proving Grounds Historic Site\, 49965 Van Dyke Ave\, Shelby Township\, MI\, 48317\, United States
CATEGORIES:Fundraiser
ATTACH;FMTTYPE=image/jpeg:https://packardprovinggrounds.org/wp-content/uploads/2024/05/1956Raffle-featured.jpg
END:VEVENT
BEGIN:VEVENT
DTSTART;TZID=UTC:20241020T130000
DTEND;TZID=UTC:20241020T170000
DTSTAMP:20260421T040707
CREATED:20240905T134443Z
LAST-MODIFIED:20240905T134634Z
UID:47588-1729429200-1729443600@packardprovinggrounds.org
SUMMARY:Annual Fall Open House
DESCRIPTION:
URL:https://packardprovinggrounds.org/event/annual-fall-open-house/
LOCATION:Packard Proving Grounds Historic Site\, 49965 Van Dyke Ave\, Shelby Township\, MI\, 48317\, United States
CATEGORIES:Open House
ATTACH;FMTTYPE=image/jpeg:https://packardprovinggrounds.org/wp-content/uploads/2024/09/2024-Annual-Fall-Open-House-featured.jpg
END:VEVENT
BEGIN:VEVENT
DTSTART;TZID=UTC:20241014T120000
DTEND;TZID=UTC:20241014T180000
DTSTAMP:20260421T040707
CREATED:20240905T193410Z
LAST-MODIFIED:20240909T170237Z
UID:47608-1728907200-1728928800@packardprovinggrounds.org
SUMMARY:Red Cross Blood Drive
DESCRIPTION:Each pint of blood we collect can help save up to three lives and will touch the lives of so many more. What a great way to pay it forward and make an impact on people in our community and across the country. We are very excited about the drive\, and we hope you are too. \nTo save time\, please visit the Red Cross website to fill out your questionnaire and/or schedule your appointment. \n https://www.redcrossblood.org/give.html/drive-results?zipSponsor=packardpg
URL:https://packardprovinggrounds.org/event/red-cross-blood-drive-10-14-24/
LOCATION:Packard Proving Grounds Historic Site\, 49965 Van Dyke Ave\, Shelby Township\, MI\, 48317\, United States
CATEGORIES:Blood Drive
ATTACH;FMTTYPE=image/jpeg:https://packardprovinggrounds.org/wp-content/uploads/2024/09/FallBloodDrive-featured.jpg
END:VEVENT
BEGIN:VEVENT
DTSTART;TZID=UTC:20241013T110000
DTEND;TZID=UTC:20241013T160000
DTSTAMP:20260421T040707
CREATED:20240524T145125Z
LAST-MODIFIED:20240711T174202Z
UID:46909-1728817200-1728835200@packardprovinggrounds.org
SUMMARY:Chic & Unique Vintage Market
DESCRIPTION:We are so excited for our October market at the beautiful Packard Proving Grounds! This market will feature 100+ small businesses selling all sorts of wonderful items including: handmade signs & home decor\, boutique clothing & accessories\, garden & yard decor\, vintage & antique treasures\, bath & body items\, furniture\, jewelry\, pet & animal products\, repurposed items\, art & wall hangings\, candles and so much more! You’ll also find delicious food trucks and food businesses. \nThe market opens to everyone at 11a and the cost is $5 per person at the gate (cash only/under 12 free). Parking is free. \nTo join the market with your small business\, please register at ChicAndUniqueMI.com \nVendor Inquiries at ChicandUniqueMI.com/BecomeAVendor
URL:https://packardprovinggrounds.org/event/chic-unique-vintage-october-market/
LOCATION:Shelby Farmers Market at the Packard Proving Grounds Historic Site\, 49965 Van Dyke Ave\, Shelby Township\, MI\, 48317\, United States
CATEGORIES:Shelby Farmers Market
ATTACH;FMTTYPE=image/jpeg:https://packardprovinggrounds.org/wp-content/uploads/2024/05/CHICUNIQUE_LOGO_featured.jpg
END:VEVENT
BEGIN:VEVENT
DTSTART;TZID=UTC:20240922T130000
DTEND;TZID=UTC:20240922T150000
DTSTAMP:20260421T040707
CREATED:20240605T132329Z
LAST-MODIFIED:20240725T200031Z
UID:46914-1727010000-1727017200@packardprovinggrounds.org
SUMMARY:Rosie the Riveter Garden Memorial Luncheon
DESCRIPTION:Don’t miss the unveiling of our Rosie the Riveter Memorial Garden that was recently planted to honor the memory of Packard “Rosies” who contributed to the war effort. \nPlease join us for Debra Wake’s program titled “Heroes of the Home-front” while enjoying a luncheon to include Chicken Marsala\, Penne Pasta with Palomino Sauce\, Santa Anna Potatoes\, Green Bean Almondine\, Salad\, Rolls and Dessert. \nWe welcome you to dress in patriotic colors or as a “Rosie”. \nGenerously sponsored by\nThe General Josiah Harmar Chapter NSDAR\nThe Old Settler’s VFW Post 4659\nPackard Motor Car Foundation \nTickets\n  \n\nGuest Speaker
URL:https://packardprovinggrounds.org/event/rosie-the-riveter-garden-memorial-luncheon/
LOCATION:Packard Proving Grounds Historic Site\, 49965 Van Dyke Ave\, Shelby Township\, MI\, 48317\, United States
CATEGORIES:Chic & Unique
ATTACH;FMTTYPE=image/jpeg:https://packardprovinggrounds.org/wp-content/uploads/2024/05/rosie-featured.jpg
END:VEVENT
BEGIN:VEVENT
DTSTART;TZID=UTC:20240911T170000
DTEND;TZID=UTC:20240911T210000
DTSTAMP:20260421T040707
CREATED:20240802T131204Z
LAST-MODIFIED:20240802T133944Z
UID:47513-1726074000-1726088400@packardprovinggrounds.org
SUMMARY:Impact Business Community Vendor Show
DESCRIPTION:
URL:https://packardprovinggrounds.org/event/impact-business-community-vendor-show/
LOCATION:Packard Proving Grounds Historic Site\, 49965 Van Dyke Ave\, Shelby Township\, MI\, 48317\, United States
CATEGORIES:Fundraiser
ATTACH;FMTTYPE=image/jpeg:https://packardprovinggrounds.org/wp-content/uploads/2024/08/Impact-vendor-show-featured.jpg
END:VEVENT
BEGIN:VEVENT
DTSTART;TZID=UTC:20240908T090000
DTEND;TZID=UTC:20240908T120000
DTSTAMP:20260421T040707
CREATED:20240821T131948Z
LAST-MODIFIED:20240821T131948Z
UID:47559-1725786000-1725796800@packardprovinggrounds.org
SUMMARY:Detroit BaT Meetup
DESCRIPTION:No registration is required for this event! BaT Meet-Ups are more casual affairs than our full-scale Alumni Gatherings\, so just show up\, bring a cool vehicle if you have one\, and shoot the breeze with BaT community members and our many Detroit-area staffers.
URL:https://packardprovinggrounds.org/event/detroit-bat-meetup/
LOCATION:Packard Proving Grounds Historic Site\, 49965 Van Dyke Ave\, Shelby Township\, MI\, 48317\, United States
CATEGORIES:Car Show
ATTACH;FMTTYPE=image/jpeg:https://packardprovinggrounds.org/wp-content/uploads/2024/08/Detroit-meetup-2024-featured.jpg
END:VEVENT
BEGIN:VEVENT
DTSTART;TZID=UTC:20240825T130000
DTEND;TZID=UTC:20240825T150000
DTSTAMP:20260421T040707
CREATED:20240617T203559Z
LAST-MODIFIED:20240711T172838Z
UID:47260-1724590800-1724598000@packardprovinggrounds.org
SUMMARY:Wedding Garage Sale
DESCRIPTION:PPG Wedding Couples contact Liz@PackardProvingGrounds.org\nto reserve your free space
URL:https://packardprovinggrounds.org/event/wedding-garage-sale/
LOCATION:Packard Proving Grounds Historic Site\, 49965 Van Dyke Ave\, Shelby Township\, MI\, 48317\, United States
CATEGORIES:Chic & Unique
ATTACH;FMTTYPE=image/jpeg:https://packardprovinggrounds.org/wp-content/uploads/2024/06/PPG-Wedding-Garage-Sale-Flyer2-featured.jpg
END:VEVENT
BEGIN:VEVENT
DTSTART;TZID=UTC:20240817T090000
DTEND;TZID=UTC:20240817T140000
DTSTAMP:20260421T040707
CREATED:20240419T141023Z
LAST-MODIFIED:20240716T190242Z
UID:46791-1723885200-1723903200@packardprovinggrounds.org
SUMMARY:Mom 2 Mom Sale
DESCRIPTION:
URL:https://packardprovinggrounds.org/event/mom-2-mom-sale/
LOCATION:Shelby Farmers Market at the Packard Proving Grounds Historic Site\, 49965 Van Dyke Ave\, Shelby Township\, MI\, 48317\, United States
CATEGORIES:Chic & Unique
ATTACH;FMTTYPE=image/jpeg:https://packardprovinggrounds.org/wp-content/uploads/2024/04/M2Mfeatured.jpg
END:VEVENT
BEGIN:VEVENT
DTSTART;TZID=UTC:20240804T110000
DTEND;TZID=UTC:20240804T160000
DTSTAMP:20260421T040707
CREATED:20240524T144842Z
LAST-MODIFIED:20240711T174140Z
UID:46906-1722769200-1722787200@packardprovinggrounds.org
SUMMARY:Chic & Unique Vintage Market
DESCRIPTION:We are so excited for our August market at the beautiful Packard Proving Grounds! This market will feature 100+ small businesses selling all sorts of wonderful items including: handmade signs & home decor\, boutique clothing & accessories\, garden & yard decor\, vintage & antique treasures\, bath & body items\, furniture\, jewelry\, pet & animal products\, repurposed items\, art & wall hangings\, candles and so much more! You’ll also find delicious food trucks and food businesses. \nThe market opens to everyone at 11a and the cost is $5 per person at the gate (cash only/under 12 free). Parking is free. \nTo join the market with your small business\, please register at ChicAndUniqueMI.com \nVendor Inquiries at ChicandUniqueMI.com/BecomeAVendor
URL:https://packardprovinggrounds.org/event/chic-unique-vintage-market/
LOCATION:Shelby Farmers Market at the Packard Proving Grounds Historic Site\, 49965 Van Dyke Ave\, Shelby Township\, MI\, 48317\, United States
CATEGORIES:Shelby Farmers Market
ATTACH;FMTTYPE=image/jpeg:https://packardprovinggrounds.org/wp-content/uploads/2024/05/CHICUNIQUE_LOGO_featured.jpg
END:VEVENT
BEGIN:VEVENT
DTSTART;TZID=UTC:20240728T120000
DTEND;TZID=UTC:20240728T180000
DTSTAMP:20260421T040707
CREATED:20240610T120627Z
LAST-MODIFIED:20240610T120704Z
UID:47089-1722168000-1722189600@packardprovinggrounds.org
SUMMARY:La Feria Festival
DESCRIPTION:
URL:https://packardprovinggrounds.org/event/la-feria-festival/
LOCATION:Packard Proving Grounds Historic Site\, 49965 Van Dyke Ave\, Shelby Township\, MI\, 48317\, United States
CATEGORIES:Chic & Unique
ATTACH;FMTTYPE=image/jpeg:https://packardprovinggrounds.org/wp-content/uploads/2024/06/LaFeria-featured.jpg
END:VEVENT
BEGIN:VEVENT
DTSTART;TZID=UTC:20240721T090000
DTEND;TZID=UTC:20240721T150000
DTSTAMP:20260421T040707
CREATED:20240419T133852Z
LAST-MODIFIED:20240419T135428Z
UID:46785-1721552400-1721574000@packardprovinggrounds.org
SUMMARY:Easy Rodders Car Show
DESCRIPTION:
URL:https://packardprovinggrounds.org/event/easy-rodders/
LOCATION:Packard Proving Grounds Historic Site\, 49965 Van Dyke Ave\, Shelby Township\, MI\, 48317\, United States
CATEGORIES:Car Show
ATTACH;FMTTYPE=image/jpeg:https://packardprovinggrounds.org/wp-content/uploads/2024/04/EasyRodders-featured.jpg
END:VEVENT
BEGIN:VEVENT
DTSTART;TZID=UTC:20240716T120000
DTEND;TZID=UTC:20240716T180000
DTSTAMP:20260421T040707
CREATED:20240219T144819Z
LAST-MODIFIED:20240219T151636Z
UID:252-1721131200-1721152800@packardprovinggrounds.org
SUMMARY:Red Cross Blood Drive
DESCRIPTION:Each pint of blood we collect can help save up to three lives and will touch the lives of so many more. What a great way to pay it forward and make an impact on people in our community and across the country. We are very excited about the drive\, and we hope you are too. \nTo save time\, please visit the Red Cross website to fill out your questionnaire and/or schedule your appointment. \n https://www.redcrossblood.org/give.html/drive-results?zipSponsor=packardpg
URL:https://packardprovinggrounds.org/event/red-cross-blood-drive-2/
LOCATION:Packard Proving Grounds Historic Site\, 49965 Van Dyke Ave\, Shelby Township\, MI\, 48317\, United States
CATEGORIES:Blood Drive
ATTACH;FMTTYPE=image/jpeg:https://packardprovinggrounds.org/wp-content/uploads/2024/02/Red-Cross-Blood-Drive.jpg
END:VEVENT
BEGIN:VEVENT
DTSTART;TZID=UTC:20240712T170000
DTEND;TZID=UTC:20240712T220000
DTSTAMP:20260421T040707
CREATED:20240707T132531Z
LAST-MODIFIED:20240711T170936Z
UID:47325-1720803600-1720821600@packardprovinggrounds.org
SUMMARY:Night Market
DESCRIPTION:
URL:https://packardprovinggrounds.org/event/night-market/
LOCATION:Shelby Farmers Market at the Packard Proving Grounds Historic Site\, 49965 Van Dyke Ave\, Shelby Township\, MI\, 48317\, United States
CATEGORIES:Shelby Farmers Market
ATTACH;FMTTYPE=image/jpeg:https://packardprovinggrounds.org/wp-content/uploads/2024/07/nightmarket-featured.jpg
END:VEVENT
BEGIN:VEVENT
DTSTART;TZID=UTC:20240614T180000
DTEND;TZID=UTC:20240614T200000
DTSTAMP:20260421T040707
CREATED:20240521T145200Z
LAST-MODIFIED:20240521T145200Z
UID:46869-1718388000-1718395200@packardprovinggrounds.org
SUMMARY:We're Turning 96!
DESCRIPTION:Register Now!
URL:https://packardprovinggrounds.org/event/were-turning-96/
LOCATION:Packard Proving Grounds Historic Site\, 49965 Van Dyke Ave\, Shelby Township\, MI\, 48317\, United States
CATEGORIES:Open House
ATTACH;FMTTYPE=image/jpeg:https://packardprovinggrounds.org/wp-content/uploads/2024/05/96birthday-featured.jpg
END:VEVENT
BEGIN:VEVENT
DTSTART;TZID=UTC:20240606T090000
DTEND;TZID=UTC:20240606T160000
DTSTAMP:20260421T040707
CREATED:20240322T132959Z
LAST-MODIFIED:20240412T204341Z
UID:46580-1717664400-1717689600@packardprovinggrounds.org
SUMMARY:D-Day + 80 Years
DESCRIPTION:A Commemoration of the D-Day Landing held at the Tank Arsenal Proving Grounds Utica (Otherwise known as the Packard Proving Grounds) \nJune 6\, 2024\n9am-4pm \nThe day’s activities begin at 9am with a flag ceremony\, followed by lectures on D-Day\, Packard’s role in WWII\, activities\, and more! \nPlease register for this FREE event @ PackardProvingGrounds.org/DDay
URL:https://packardprovinggrounds.org/event/d-day-80-years/
LOCATION:Packard Proving Grounds Historic Site\, 49965 Van Dyke Ave\, Shelby Township\, MI\, 48317\, United States
CATEGORIES:Open House
ATTACH;FMTTYPE=image/jpeg:https://packardprovinggrounds.org/wp-content/uploads/2024/03/D-Day-80years-featured.jpg
END:VEVENT
BEGIN:VEVENT
DTSTART;TZID=UTC:20240602T110000
DTEND;TZID=UTC:20240602T160000
DTSTAMP:20260421T040707
CREATED:20240524T141052Z
LAST-MODIFIED:20240711T174002Z
UID:46895-1717326000-1717344000@packardprovinggrounds.org
SUMMARY:Chic & Unique Vintage Market
DESCRIPTION:We are so excited for our June market at the beautiful Packard Proving Grounds! This market will feature 100+ small businesses selling all sorts of wonderful items including: handmade signs & home decor\, boutique clothing & accessories\, garden & yard decor\, vintage & antique treasures\, bath & body items\, furniture\, jewelry\, pet & animal products\, repurposed items\, art & wall hangings\, candles and so much more! You’ll also find delicious food trucks and food businesses. \nThe market opens to everyone at 11a and the cost is $5 per person at the gate (cash only/under 12 free). Parking is free. \nTo join the market with your small business\, please register at ChicAndUniqueMI.com \nVendor Inquiries at www.ChicandUniqueMI.com
URL:https://packardprovinggrounds.org/event/chic-uunique-vintage-june-market/
LOCATION:Shelby Farmers Market at the Packard Proving Grounds Historic Site\, 49965 Van Dyke Ave\, Shelby Township\, MI\, 48317\, United States
CATEGORIES:Shelby Farmers Market
ATTACH;FMTTYPE=image/jpeg:https://packardprovinggrounds.org/wp-content/uploads/2024/05/CHICUNIQUE_featured.jpg
END:VEVENT
BEGIN:VEVENT
DTSTART;TZID=UTC:20240529T120000
DTEND;TZID=UTC:20240529T160000
DTSTAMP:20260421T040707
CREATED:20240219T144919Z
LAST-MODIFIED:20240506T150210Z
UID:255-1716984000-1716998400@packardprovinggrounds.org
SUMMARY:1931 Packard Salon Special Showing
DESCRIPTION:1931 Packard Salon Special Showing \nClick here for details and to register \n\nAgenda for the three day event: \nTuesday\, May 28\, 2024\n– Main arrival day for vehicle owners\, site opens at 8am\n– Getting settled in at nearby hotels\n– Owners meet and greet lunch provided by the PPG (11am-1pm)\n– Guided PPG site tours available\n– Trip to Stahls Automotive Museum – (56516 N Bay Dr\, New Baltimore\, MI 48051) Tour is scheduled from 2-4pm \nWednesday\, May 29\, 2024\n– Main Show Day\n– Vehicle placement\, site opens at 8am (Vehicles will be placed according to the original 1931 Salon held at the PPG in 1930)\n– Brunch provided by the PPG for vehicle owners from 9-11am\n– Professional photography of the Recreated Salon (Custom shots offered on a time allowing basis)\n– Viewing\, Gates open to the public from noon-4pm (Public Admission is $20)\n– 1931 Exit Parade begins at 3:30pm\, owners to receive special token for participation\n– Dinner in Repair Garage at 6pm\, it is Black Tie Optional \nThursday\, May 30\, 2024\n– Vehicle dismissal\, site opens at 8am\n– Guided PPG site tours available\n– Goodbyes and departure for Hickory Corners
URL:https://packardprovinggrounds.org/event/1931-packard-salon-special-showing/
LOCATION:Packard Proving Grounds Historic Site\, 49965 Van Dyke Ave\, Shelby Township\, MI\, 48317\, United States
CATEGORIES:Car Show
ATTACH;FMTTYPE=image/jpeg:https://packardprovinggrounds.org/wp-content/uploads/2024/02/1931Packard-featured.jpg
END:VEVENT
BEGIN:VEVENT
DTSTART;TZID=UTC:20240505T080000
DTEND;TZID=UTC:20240505T150000
DTSTAMP:20260421T040707
CREATED:20240318T141330Z
LAST-MODIFIED:20240412T204414Z
UID:46540-1714896000-1714921200@packardprovinggrounds.org
SUMMARY:26th Annual All Mopar Car Show & Swap Meet
DESCRIPTION:
URL:https://packardprovinggrounds.org/event/26th-annual-all-mopar-car-show-swap-meet/
LOCATION:Packard Proving Grounds Historic Site\, 49965 Van Dyke Ave\, Shelby Township\, MI\, 48317\, United States
CATEGORIES:Car Show
ATTACH;FMTTYPE=image/jpeg:https://packardprovinggrounds.org/wp-content/uploads/2024/03/nomm-banner.jpg
END:VEVENT
END:VCALENDAR