BEGIN:VCALENDAR
VERSION:2.0
PRODID:-//Packard Proving Grounds Historic Site Gift Shop - ECPv6.15.20//NONSGML v1.0//EN
CALSCALE:GREGORIAN
METHOD:PUBLISH
X-WR-CALNAME:Packard Proving Grounds Historic Site Gift Shop
X-ORIGINAL-URL:https://packardprovinggrounds.org
X-WR-CALDESC:Events for Packard Proving Grounds Historic Site Gift Shop
REFRESH-INTERVAL;VALUE=DURATION:PT1H
X-Robots-Tag:noindex
X-PUBLISHED-TTL:PT1H
BEGIN:VTIMEZONE
TZID:UTC
BEGIN:STANDARD
TZOFFSETFROM:+0000
TZOFFSETTO:+0000
TZNAME:UTC
DTSTART:20240101T000000
END:STANDARD
END:VTIMEZONE
BEGIN:VEVENT
DTSTART;TZID=UTC:20251129T100000
DTEND;TZID=UTC:20251129T150000
DTSTAMP:20260420T210300
CREATED:20240805T134038Z
LAST-MODIFIED:20251110T144909Z
UID:47531-1764410400-1764428400@packardprovinggrounds.org
SUMMARY:Model Train Show
DESCRIPTION:
URL:https://packardprovinggrounds.org/event/model-train-show/
LOCATION:Packard Proving Grounds Historic Site\, 49965 Van Dyke Ave\, Shelby Township\, MI\, 48317\, United States
CATEGORIES:Chic & Unique
ATTACH;FMTTYPE=image/jpeg:https://packardprovinggrounds.org/wp-content/uploads/2024/08/ModelTrainSHow-featured.jpg
END:VEVENT
BEGIN:VEVENT
DTSTART;TZID=UTC:20251123T130000
DTEND;TZID=UTC:20251123T140000
DTSTAMP:20260420T210300
CREATED:20250610T195602Z
LAST-MODIFIED:20250716T141452Z
UID:49323-1763902800-1763906400@packardprovinggrounds.org
SUMMARY:Historical Speaker Series - How The Packard Proving Grounds Was Saved
DESCRIPTION:
URL:https://packardprovinggrounds.org/event/historical-speaker-series-november-23/
LOCATION:Packard Proving Grounds Historic Site\, 49965 Van Dyke Ave\, Shelby Township\, MI\, 48317\, United States
CATEGORIES:Chic & Unique,Historical Speaker Series
ATTACH;FMTTYPE=image/jpeg:https://packardprovinggrounds.org/wp-content/uploads/2025/06/2025-HSS-featured-11-23-25.jpg
END:VEVENT
BEGIN:VEVENT
DTSTART;TZID=UTC:20251116T130000
DTEND;TZID=UTC:20251116T160000
DTSTAMP:20260420T210300
CREATED:20250422T180946Z
LAST-MODIFIED:20250617T184138Z
UID:49068-1763298000-1763308800@packardprovinggrounds.org
SUMMARY:November Wedding Garage Sale
DESCRIPTION:PPG Wedding Couples contact Liz@PackardProvingGrounds.org\nto reserve your free space \nFor people interested in selling at the garage sale\, they can visit https://forms.gle/UBSQyQ3Rc46tLUR79
URL:https://packardprovinggrounds.org/event/november-wedding-garage-sale-2025/
LOCATION:Packard Proving Grounds Historic Site\, 49965 Van Dyke Ave\, Shelby Township\, MI\, 48317\, United States
CATEGORIES:Wedding Show
ATTACH;FMTTYPE=image/jpeg:https://packardprovinggrounds.org/wp-content/uploads/2025/04/Wedding-Garage-Sale-november.jpg
END:VEVENT
BEGIN:VEVENT
DTSTART;TZID=UTC:20251109T130000
DTEND;TZID=UTC:20251109T140000
DTSTAMP:20260420T210300
CREATED:20250623T132313Z
LAST-MODIFIED:20250716T141356Z
UID:49630-1762693200-1762696800@packardprovinggrounds.org
SUMMARY:Historical Speaker Series - Henry B. Joy and the Selfridge Connection
DESCRIPTION:Tickets on sale soon!
URL:https://packardprovinggrounds.org/event/historical-speaker-series-november-9/
LOCATION:Packard Proving Grounds Historic Site\, 49965 Van Dyke Ave\, Shelby Township\, MI\, 48317\, United States
CATEGORIES:Chic & Unique,Historical Speaker Series
ATTACH;FMTTYPE=image/jpeg:https://packardprovinggrounds.org/wp-content/uploads/2025/06/2025-HSS-featured-11-9-25.jpg
END:VEVENT
BEGIN:VEVENT
DTSTART;TZID=UTC:20251102T120000
DTEND;TZID=UTC:20251102T160000
DTSTAMP:20260420T210300
CREATED:20240712T200555Z
LAST-MODIFIED:20250828T155202Z
UID:47359-1762084800-1762099200@packardprovinggrounds.org
SUMMARY:Harvest Holiday Market
DESCRIPTION:
URL:https://packardprovinggrounds.org/event/harvest-holiday-market/
LOCATION:Packard Proving Grounds Historic Site\, 49965 Van Dyke Ave\, Shelby Township\, MI\, 48317\, United States
CATEGORIES:Shelby Farmers Market
ATTACH;FMTTYPE=image/jpeg:https://packardprovinggrounds.org/wp-content/uploads/2024/07/2025-HH-featured.jpg
END:VEVENT
BEGIN:VEVENT
DTSTART;TZID=UTC:20251026T130000
DTEND;TZID=UTC:20251026T140000
DTSTAMP:20260420T210300
CREATED:20250613T175627Z
LAST-MODIFIED:20250716T141204Z
UID:49383-1761483600-1761487200@packardprovinggrounds.org
SUMMARY:Historical Speaker Series - Rough Seas: The Edmund Fitzgerald
DESCRIPTION:
URL:https://packardprovinggrounds.org/event/historical-speaker-series-october-26/
LOCATION:Packard Proving Grounds Historic Site\, 49965 Van Dyke Ave\, Shelby Township\, MI\, 48317\, United States
CATEGORIES:Chic & Unique,Historical Speaker Series
ATTACH;FMTTYPE=image/jpeg:https://packardprovinggrounds.org/wp-content/uploads/2025/06/2025-HSS-oct26featured.jpg
END:VEVENT
BEGIN:VEVENT
DTSTART;TZID=UTC:20251019T130000
DTEND;TZID=UTC:20251019T170000
DTSTAMP:20260420T210300
CREATED:20250513T174628Z
LAST-MODIFIED:20250513T174938Z
UID:49143-1760878800-1760893200@packardprovinggrounds.org
SUMMARY:Annual Fall Open House - Sunday\, October 19\, 2025
DESCRIPTION:
URL:https://packardprovinggrounds.org/event/annual-fall-open-house-sunday-october-19-2025/
LOCATION:Packard Proving Grounds Historic Site\, 49965 Van Dyke Ave\, Shelby Township\, MI\, 48317\, United States
CATEGORIES:Car Show,Chic & Unique,Fundraiser,Open House
ATTACH;FMTTYPE=image/jpeg:https://packardprovinggrounds.org/wp-content/uploads/2025/05/AnnualFallOpenHouse2025.jpg
END:VEVENT
BEGIN:VEVENT
DTSTART;TZID=UTC:20251013T120000
DTEND;TZID=UTC:20251013T180000
DTSTAMP:20260420T210300
CREATED:20250919T145914Z
LAST-MODIFIED:20250919T150157Z
UID:50350-1760356800-1760378400@packardprovinggrounds.org
SUMMARY:Red Cross Blood Drive
DESCRIPTION:Streamline your donation experience and save up to 15 minutes by visiting RedCrossBlood.org/RapidPass to complete your pre-donation reading and health history questions on the day of your appointment.
URL:https://packardprovinggrounds.org/event/red-cross-blood-drive-10-13-25/
LOCATION:Packard Proving Grounds Historic Site\, 49965 Van Dyke Ave\, Shelby Township\, MI\, 48317\, United States
CATEGORIES:Blood Drive
ATTACH;FMTTYPE=image/jpeg:https://packardprovinggrounds.org/wp-content/uploads/2025/09/OCt-13-PPG.jpg
END:VEVENT
BEGIN:VEVENT
DTSTART;TZID=UTC:20251012T110000
DTEND;TZID=UTC:20251012T160000
DTSTAMP:20260420T210300
CREATED:20250512T172843Z
LAST-MODIFIED:20250718T165217Z
UID:49128-1760266800-1760284800@packardprovinggrounds.org
SUMMARY:Simply Unique Market - October 12\, 2025
DESCRIPTION:Shelby Twp Fall Market\nOctober 12\, 2025 – Shelby Twp\, Michigan\n49965 Van Dyke Ave – Packard Proving Grounds\nFrom 11a-4p • Indoor/Outdoor Market • Rain or Shine\nVendors can apply here simplyuniquemarket.com\nFor more info about this market\, check out the event details here
URL:https://packardprovinggrounds.org/event/simply-unique-market-october-12-2025/
LOCATION:Shelby Farmers Market at the Packard Proving Grounds Historic Site\, 49965 Van Dyke Ave\, Shelby Township\, MI\, 48317\, United States
CATEGORIES:Chic & Unique,Shelby Farmers Market
ATTACH;FMTTYPE=image/jpeg:https://packardprovinggrounds.org/wp-content/uploads/2025/05/SUM-Oct12.jpg
END:VEVENT
BEGIN:VEVENT
DTSTART;TZID=UTC:20250914T080000
DTEND;TZID=UTC:20250914T150000
DTSTAMP:20260420T210300
CREATED:20240319T142945Z
LAST-MODIFIED:20250725T183620Z
UID:46556-1757836800-1757862000@packardprovinggrounds.org
SUMMARY:CARS 'R' STARS
DESCRIPTION:Registration\nPlease fill out the form below to register for the 2025 Cars’R’Stars event\nor Download Form Here
URL:https://packardprovinggrounds.org/event/cars-r-stars/
LOCATION:Packard Proving Grounds Historic Site\, 49965 Van Dyke Ave\, Shelby Township\, MI\, 48317\, United States
CATEGORIES:Car Show
ATTACH;FMTTYPE=image/jpeg:https://packardprovinggrounds.org/wp-content/uploads/2024/03/carsrstars25.jpg
END:VEVENT
BEGIN:VEVENT
DTSTART;TZID=UTC:20250912T170000
DTEND;TZID=UTC:20250912T220000
DTSTAMP:20260420T210301
CREATED:20250512T172502Z
LAST-MODIFIED:20250718T165407Z
UID:49124-1757696400-1757714400@packardprovinggrounds.org
SUMMARY:Simply Unique Market - September 12\, 2025
DESCRIPTION:Shelby Twp Fall Night Market\nSeptember 12th\, 2025 – Shelby Twp\, Michigan\n49965 Van Dyke Ave – Packard Proving Grounds\nFrom 5p-10p • Indoor/Outdoor Market • Rain or Shine\nVendors can apply here simplyuniquemarket.com\nFor more info about this market\, check out the event details here
URL:https://packardprovinggrounds.org/event/simply-unique-market-september-12-2025/
LOCATION:Shelby Farmers Market at the Packard Proving Grounds Historic Site\, 49965 Van Dyke Ave\, Shelby Township\, MI\, 48317\, United States
CATEGORIES:Chic & Unique,Shelby Farmers Market
ATTACH;FMTTYPE=image/jpeg:https://packardprovinggrounds.org/wp-content/uploads/2025/05/SUM-Sept12.jpg
END:VEVENT
BEGIN:VEVENT
DTSTART;TZID=UTC:20250907T130000
DTEND;TZID=UTC:20250907T143000
DTSTAMP:20260420T210301
CREATED:20250613T154235Z
LAST-MODIFIED:20250716T141028Z
UID:49377-1757250000-1757255400@packardprovinggrounds.org
SUMMARY:Historical Speaker Series - Emblems that Moved Us
DESCRIPTION:
URL:https://packardprovinggrounds.org/event/historical-speaker-series-september-7/
LOCATION:Packard Proving Grounds Historic Site\, 49965 Van Dyke Ave\, Shelby Township\, MI\, 48317\, United States
CATEGORIES:Chic & Unique,Historical Speaker Series
ATTACH;FMTTYPE=image/jpeg:https://packardprovinggrounds.org/wp-content/uploads/2025/06/2025-HSS-sep7featured.jpg
END:VEVENT
BEGIN:VEVENT
DTSTART;TZID=UTC:20250824T130000
DTEND;TZID=UTC:20250824T160000
DTSTAMP:20260420T210301
CREATED:20240618T125451Z
LAST-MODIFIED:20250617T184047Z
UID:47268-1756040400-1756051200@packardprovinggrounds.org
SUMMARY:August Wedding Garage Sale
DESCRIPTION:PPG Wedding Couples contact Liz@PackardProvingGrounds.org\nto reserve your free space \nFor people interested in selling at the garage sale\, they can visit https://forms.gle/UBSQyQ3Rc46tLUR79
URL:https://packardprovinggrounds.org/event/august-wedding-garage-sale-2025/
LOCATION:Packard Proving Grounds Historic Site\, 49965 Van Dyke Ave\, Shelby Township\, MI\, 48317\, United States
CATEGORIES:Wedding Show
ATTACH;FMTTYPE=image/jpeg:https://packardprovinggrounds.org/wp-content/uploads/2024/06/Wedding-Garage-Sale-august.jpg
END:VEVENT
BEGIN:VEVENT
DTSTART;TZID=UTC:20250720T080000
DTEND;TZID=UTC:20250720T150000
DTSTAMP:20260420T210301
CREATED:20250422T180304Z
LAST-MODIFIED:20250422T180506Z
UID:49060-1752998400-1753023600@packardprovinggrounds.org
SUMMARY:Easy Rodders Car Show
DESCRIPTION:
URL:https://packardprovinggrounds.org/event/easy-rodders-car-show/
LOCATION:Packard Proving Grounds Historic Site\, 49965 Van Dyke Ave\, Shelby Township\, MI\, 48317\, United States
CATEGORIES:Car Show,Chic & Unique
ATTACH;FMTTYPE=image/jpeg:https://packardprovinggrounds.org/wp-content/uploads/2025/04/Easy-Rodders-Car-Show.jpg
END:VEVENT
BEGIN:VEVENT
DTSTART;TZID=UTC:20250718T170000
DTEND;TZID=UTC:20250718T220000
DTSTAMP:20260420T210301
CREATED:20250512T172116Z
LAST-MODIFIED:20250718T165446Z
UID:49121-1752858000-1752876000@packardprovinggrounds.org
SUMMARY:Simply Unique Market - July 18\, 2025
DESCRIPTION:Shelby Twp Summer Night Market\nJuly 18th\, 2025 – Shelby Twp\, Michigan\n49965 Van Dyke Ave – Packard Proving Grounds\nFrom 5p-10p • Indoor/Outdoor Market • Rain or Shine\nVendors can apply here simplyuniquemarket.com\nFor more info about this market\, check out the event details here
URL:https://packardprovinggrounds.org/event/simply-unique-market-july-18-2025/
LOCATION:Shelby Farmers Market at the Packard Proving Grounds Historic Site\, 49965 Van Dyke Ave\, Shelby Township\, MI\, 48317\, United States
CATEGORIES:Chic & Unique,Shelby Farmers Market
ATTACH;FMTTYPE=image/jpeg:https://packardprovinggrounds.org/wp-content/uploads/2025/05/SUM-July18.jpg
END:VEVENT
BEGIN:VEVENT
DTSTART;TZID=UTC:20250601T110000
DTEND;TZID=UTC:20250601T160000
DTSTAMP:20260420T210301
CREATED:20250512T165821Z
LAST-MODIFIED:20250512T171621Z
UID:49112-1748775600-1748793600@packardprovinggrounds.org
SUMMARY:Simply Unique Market - June 1\, 2025
DESCRIPTION:Shelby Twp Summer Market\nJune 1st\, 2025 – Shelby Twp\, Michigan\n49965 Van Dyke Ave – Packard Proving Grounds\nFrom 11a-4p • Indoor/Outdoor Market • Rain or Shine\nFacebook Event Page – facebook.com/events/914776380819476\nFor more info about this market\, check out the event details here
URL:https://packardprovinggrounds.org/event/simply-unique-market-june-1-2025/
LOCATION:Shelby Farmers Market at the Packard Proving Grounds Historic Site\, 49965 Van Dyke Ave\, Shelby Township\, MI\, 48317\, United States
CATEGORIES:Chic & Unique,Shelby Farmers Market
ATTACH;FMTTYPE=image/jpeg:https://packardprovinggrounds.org/wp-content/uploads/2025/05/SUM-June1.jpg
END:VEVENT
BEGIN:VEVENT
DTSTART;TZID=UTC:20250527T080000
DTEND;TZID=UTC:20250529T170000
DTSTAMP:20260420T210301
CREATED:20241028T141002Z
LAST-MODIFIED:20250522T125610Z
UID:47829-1748332800-1748538000@packardprovinggrounds.org
SUMMARY:Calling all Twelves - A Salon Special Showing
DESCRIPTION:  \nTwelve Sponsor\n \n \n\nTwin Six Sponsor\n \n \n\nWednesday Salon Display:\n$20 per person admission\, children free (entry begins at 1:00pm)\nWednesday Banquet Dinner:\n$100 each or $600 for a table\n6 pm cocktail hour and 7 pm dinner\n2-Day All Access Pass:\n$265 per person\, includes admission to the following (limited number available)\n– Early admission to the Salon Display @ 11:00am\n– Wednesday Lunch\n– Wednesday Banquet Dinner\n– Thursday Lecture Series\n– Thursday Lunch\n– Thursday Bus Trip to the Ford Estate and Packard Assembly Plant \nWednesday\, May 28th – Registration Form\n\nSalon Event Registration – Click Here\n  \nThursday\, May 29th – Salon Lecture Series\n\nPurchase Tickets – Click Here\n  \nProgram Advertising Opportunities\n\nPurchase Ad Space – Click Here\nBe part of a celebration of Packard excellence by placing an ad in the 2025 Salon Program. Promote your business directly to classic car enthusiasts attending this unique\, high-profile event. Your ad will be seen by a dedicated audience of Packard owners\, collectors\, and car lovers gathered at the Salon to showcase and celebrate some of the finest vehicles ever built. Your ad helps support preservation efforts and public programming at the Packard Proving Grounds Historic Site. \nAd Sizes & Rates \n\nFull-Page Ad: $400 (6.8″ W x 8″ H)\nHalf-Page Ad: $250 (6.8″ W x 4″ H)\nQuarter-Page Ad: $150 (3.4″ W x 4″ H)\n\nWhere Your Ad Will Be Seen \n\nShared with our Packard Proving Grounds email newsletter audience (5\,000+ subscribers)\nPromoted on our social media channels\nHosted on our official website for visibility\nProminently shared with show participants and attendees at the Banquet Dinner\n\nTo Reserve Your Space\nChecks payable to:\nPackard Motor Car Foundation\n49965 Van Dyke Ave.\, Shelby Twp\, MI 48317 \nTo submit your ad or ask questions\, contact:\nJeannine Morris\njeannine@packardprovinggrounds.org\n586-739-4800 \nFurther information for those considering attending the event\n\n• Schedule of events\n• Alternative paper registration form (to print\, complete and mail)\n• Links and addresses \nMore events you might be interested in…\n\n\n2025 CCCA Museum Experience. May 30-June 1\, 2025. Hickory Corners\, Michigan. Click here for more info \n\n\nPackard Automobile Classics 58th National Meet. May 31-June 6\, 2025. Kansas City\, Kansas. Click here to register
URL:https://packardprovinggrounds.org/event/packard-salon-calling-all-twelves/
LOCATION:Packard Proving Grounds Historic Site\, 49965 Van Dyke Ave\, Shelby Township\, MI\, 48317\, United States
CATEGORIES:Car Show,Chic & Unique
ATTACH;FMTTYPE=image/jpeg:https://packardprovinggrounds.org/wp-content/uploads/2024/10/2025-SolonSpecial-featured.jpg
END:VEVENT
BEGIN:VEVENT
DTSTART;TZID=UTC:20250517T090000
DTEND;TZID=UTC:20251018T140000
DTSTAMP:20260420T210301
CREATED:20241031T130128Z
LAST-MODIFIED:20250422T200003Z
UID:47854-1747472400-1760796000@packardprovinggrounds.org
SUMMARY:Shelby Farmer’s Market 2025
DESCRIPTION:
URL:https://packardprovinggrounds.org/event/shelby-farmers-market-2025/
LOCATION:Shelby Farmers Market at the Packard Proving Grounds Historic Site\, 49965 Van Dyke Ave\, Shelby Township\, MI\, 48317\, United States
CATEGORIES:Shelby Farmers Market
ATTACH;FMTTYPE=image/jpeg:https://packardprovinggrounds.org/wp-content/uploads/2024/10/2025-SFM-featured.jpg
END:VEVENT
BEGIN:VEVENT
DTSTART;TZID=UTC:20250504T080000
DTEND;TZID=UTC:20250504T150000
DTSTAMP:20260420T210301
CREATED:20250422T155251Z
LAST-MODIFIED:20250422T202920Z
UID:49053-1746345600-1746370800@packardprovinggrounds.org
SUMMARY:North Oakland Mopar Muscle Car Show
DESCRIPTION:
URL:https://packardprovinggrounds.org/event/north-oakland-mopar-muscle-car-show/
LOCATION:Packard Proving Grounds Historic Site\, 49965 Van Dyke Ave\, Shelby Township\, MI\, 48317\, United States
CATEGORIES:Car Show,Chic & Unique
ATTACH;FMTTYPE=image/jpeg:https://packardprovinggrounds.org/wp-content/uploads/2025/04/North-Oakland-Mopar-Muscle-Car-Show.jpg
END:VEVENT
BEGIN:VEVENT
DTSTART;TZID=UTC:20250427T130000
DTEND;TZID=UTC:20250427T140000
DTSTAMP:20260420T210301
CREATED:20250214T195412Z
LAST-MODIFIED:20250422T195836Z
UID:48729-1745758800-1745762400@packardprovinggrounds.org
SUMMARY:Historical Speaker Series - The History of the Packard Proving Grounds
DESCRIPTION:Purchase tickets for the April 27th event
URL:https://packardprovinggrounds.org/event/historical-speaker-series-april-27/
LOCATION:Packard Proving Grounds Historic Site\, 49965 Van Dyke Ave\, Shelby Township\, MI\, 48317\, United States
CATEGORIES:Chic & Unique,Historical Speaker Series
ATTACH;FMTTYPE=image/jpeg:https://packardprovinggrounds.org/wp-content/uploads/2025/02/2025-HSS-april27.jpg
END:VEVENT
BEGIN:VEVENT
DTSTART;TZID=UTC:20250406T130000
DTEND;TZID=UTC:20250406T140000
DTSTAMP:20260420T210301
CREATED:20250213T162650Z
LAST-MODIFIED:20250214T201147Z
UID:48711-1743944400-1743948000@packardprovinggrounds.org
SUMMARY:Historical Speaker Series - The Evolution of Base Ball and the Detroit Tigers:  Part Deux: The Growth of the Game
DESCRIPTION:Purchase tickets for the April 6th event\n\n  \n\nScott “Chooch” Westgate\nChooch has been an active ballplayer playing every fielding position for the Rochester Grangers vintage base ball club since 2002. He is also a long-time season ticket holder of the current Detroit Tigers baseball club. \nChooch has also served on the Vintage Base Ball Association as the President\, the Board of Trustees\, and frequent convention presenter. \nIn his non-baseball life\, Mr. Westgate is a small business owner in Rochester Hills\, Michigan of MBC Retirement Services\, Inc.\, a firm assisting financial advisors and employers with administering 401K\, profit sharing\, and pension plans. \nScott Westgate has been married to Christine for 38 years\, has three healthy and grown children\, and no grandchildren! \n\nDoug “Moonlight” Otlewski\nAfter serving for over fifteen years as the playing captain of the Rochester Grangers Vintage Base Ball Club\, Doug “Moonlight” Otlewski currently umpires vintage matches at the Rochester Hills Museum at Van Hoosen Farm. \nA featured speaker for the Vintage Base Ball Association\, he also writes a regular column on all things Grangers for the Community Lifestyles newspaper. In his spare time he practices law in Rochester.
URL:https://packardprovinggrounds.org/event/historical-speaker-series-april-6/
LOCATION:Packard Proving Grounds Historic Site\, 49965 Van Dyke Ave\, Shelby Township\, MI\, 48317\, United States
CATEGORIES:Chic & Unique,Historical Speaker Series
ATTACH;FMTTYPE=image/jpeg:https://packardprovinggrounds.org/wp-content/uploads/2025/02/2025-HSS-Apr6featured.jpg
END:VEVENT
BEGIN:VEVENT
DTSTART;TZID=UTC:20250405T180000
DTEND;TZID=UTC:20250405T230000
DTSTAMP:20260420T210301
CREATED:20240410T194040Z
LAST-MODIFIED:20250120T140408Z
UID:46727-1743876000-1743894000@packardprovinggrounds.org
SUMMARY:2025 Great Gatsby Fundraiser
DESCRIPTION:Buy your tickets now!
URL:https://packardprovinggrounds.org/event/2025-great-gatsby-fundraiser/
LOCATION:Packard Proving Grounds Historic Site\, 49965 Van Dyke Ave\, Shelby Township\, MI\, 48317\, United States
CATEGORIES:Fundraiser
ATTACH;FMTTYPE=image/jpeg:https://packardprovinggrounds.org/wp-content/uploads/2024/12/GGFstoreheader2.jpg
END:VEVENT
BEGIN:VEVENT
DTSTART;TZID=UTC:20250330T130000
DTEND;TZID=UTC:20250330T160000
DTSTAMP:20260420T210301
CREATED:20250106T155154Z
LAST-MODIFIED:20250113T153030Z
UID:48464-1743339600-1743350400@packardprovinggrounds.org
SUMMARY:Wedding Show
DESCRIPTION:VENDOR APPLICATION
URL:https://packardprovinggrounds.org/event/wedding-show/
LOCATION:Packard Proving Grounds Historic Site\, 49965 Van Dyke Ave\, Shelby Township\, MI\, 48317\, United States
CATEGORIES:Wedding Show
ATTACH;FMTTYPE=image/jpeg:https://packardprovinggrounds.org/wp-content/uploads/2025/01/PPG-WeddingShow-featured.jpg
END:VEVENT
BEGIN:VEVENT
DTSTART;TZID=UTC:20250320T190000
DTEND;TZID=UTC:20250320T210000
DTSTAMP:20260420T210301
CREATED:20250306T135921Z
LAST-MODIFIED:20250306T150825Z
UID:48804-1742497200-1742504400@packardprovinggrounds.org
SUMMARY:Do your dance moves need some work? We’ve got you!
DESCRIPTION:
URL:https://packardprovinggrounds.org/event/do-your-dance-moves-need-some-work-weve-got-you/
LOCATION:Packard Proving Grounds Historic Site\, 49965 Van Dyke Ave\, Shelby Township\, MI\, 48317\, United States
CATEGORIES:Chic & Unique
ATTACH;FMTTYPE=image/jpeg:https://packardprovinggrounds.org/wp-content/uploads/2025/03/2025-DanceWorkshop-featured.jpg
END:VEVENT
BEGIN:VEVENT
DTSTART;TZID=UTC:20250316T130000
DTEND;TZID=UTC:20250316T140000
DTSTAMP:20260420T210301
CREATED:20250113T190826Z
LAST-MODIFIED:20250203T181950Z
UID:48518-1742130000-1742133600@packardprovinggrounds.org
SUMMARY:Historical Speaker Series - Albert Kahn and Packard;  Getting the Packards on the Road
DESCRIPTION:Not a member yet? Click hereSign up for monthly email newsletter to be the first to know about upcoming PPG events. \nPurchase tickets for the March 16th event
URL:https://packardprovinggrounds.org/event/historical-speaker-series-march-16/
LOCATION:Packard Proving Grounds Historic Site\, 49965 Van Dyke Ave\, Shelby Township\, MI\, 48317\, United States
CATEGORIES:Chic & Unique,Historical Speaker Series
ATTACH;FMTTYPE=image/jpeg:https://packardprovinggrounds.org/wp-content/uploads/2025/01/Mar16-HSS-featured.jpg
END:VEVENT
BEGIN:VEVENT
DTSTART;TZID=UTC:20250309T130000
DTEND;TZID=UTC:20250309T140000
DTSTAMP:20260420T210301
CREATED:20250131T152001Z
LAST-MODIFIED:20250203T182050Z
UID:48616-1741525200-1741528800@packardprovinggrounds.org
SUMMARY:Historical Speaker Series - Electric Vehicles - Why-Why Not?
DESCRIPTION:Not a member yet? Click hereSign up for monthly email newsletter to be the first to know about upcoming PPG events. \nPurchase tickets for the February 16th event
URL:https://packardprovinggrounds.org/event/historical-speaker-series-march-9/
LOCATION:Packard Proving Grounds Historic Site\, 49965 Van Dyke Ave\, Shelby Township\, MI\, 48317\, United States
CATEGORIES:Chic & Unique,Historical Speaker Series
ATTACH;FMTTYPE=image/jpeg:https://packardprovinggrounds.org/wp-content/uploads/2025/01/2025-HSS-featured-3-9.jpg
END:VEVENT
BEGIN:VEVENT
DTSTART;TZID=UTC:20250302T130000
DTEND;TZID=UTC:20250302T140000
DTSTAMP:20260420T210301
CREATED:20241130T153852Z
LAST-MODIFIED:20250217T202832Z
UID:48067-1740920400-1740924000@packardprovinggrounds.org
SUMMARY:Historical Speaker Series - The Mill Builder and Inventor from Macomb County
DESCRIPTION:Not a member yet? Click hereSign up for monthly email newsletter to be the first to know about upcoming PPG events. \nPurchase tickets for the March 2nd event\nCOMING SOON \n 
URL:https://packardprovinggrounds.org/event/historical-speaker-series-march-2/
LOCATION:Packard Proving Grounds Historic Site\, 49965 Van Dyke Ave\, Shelby Township\, MI\, 48317\, United States
CATEGORIES:Chic & Unique,Historical Speaker Series
ATTACH;FMTTYPE=image/jpeg:https://packardprovinggrounds.org/wp-content/uploads/2024/11/2025-HSS-featured-2-16.jpg
END:VEVENT
BEGIN:VEVENT
DTSTART;TZID=UTC:20250223T130000
DTEND;TZID=UTC:20250223T150000
DTSTAMP:20260420T210301
CREATED:20250206T233719Z
LAST-MODIFIED:20250212T163456Z
UID:48653-1740315600-1740322800@packardprovinggrounds.org
SUMMARY:Farmers Market Bootcamp
DESCRIPTION:Purchase Tickets Now\n \n\n \n 
URL:https://packardprovinggrounds.org/event/sfm-bootcamp/
LOCATION:Shelby Farmers Market at the Packard Proving Grounds Historic Site\, 49965 Van Dyke Ave\, Shelby Township\, MI\, 48317\, United States
CATEGORIES:Shelby Farmers Market
ATTACH;FMTTYPE=image/jpeg:https://packardprovinggrounds.org/wp-content/uploads/2025/02/SFM-bootcamp-featured.jpg
END:VEVENT
BEGIN:VEVENT
DTSTART;TZID=UTC:20250202T130000
DTEND;TZID=UTC:20250202T140000
DTSTAMP:20260420T210301
CREATED:20241130T153608Z
LAST-MODIFIED:20250203T133221Z
UID:48060-1738501200-1738504800@packardprovinggrounds.org
SUMMARY:Historical Speaker Series - Tetanus in WWI and the Horses Who Saved Lives
DESCRIPTION:Not a member yet? Click hereSign up for monthly email newsletter to be the first to know about upcoming PPG events. \nPurchase tickets for the February 2nd event
URL:https://packardprovinggrounds.org/event/historical-speaker-series-february-2/
LOCATION:Packard Proving Grounds Historic Site\, 49965 Van Dyke Ave\, Shelby Township\, MI\, 48317\, United States
CATEGORIES:Chic & Unique,Historical Speaker Series
ATTACH;FMTTYPE=image/jpeg:https://packardprovinggrounds.org/wp-content/uploads/2024/11/2025-HSS-featured-2-2.jpg
END:VEVENT
BEGIN:VEVENT
DTSTART;TZID=UTC:20250121T120000
DTEND;TZID=UTC:20250121T180000
DTSTAMP:20260420T210301
CREATED:20240219T144228Z
LAST-MODIFIED:20240909T170203Z
UID:239-1737460800-1737482400@packardprovinggrounds.org
SUMMARY:Red Cross Blood Drive
DESCRIPTION:Each pint of blood we collect can help save up to three lives and will touch the lives of so many more. What a great way to pay it forward and make an impact on people in our community and across the country. We are very excited about the drive\, and we hope you are too. \nTo save time\, please visit the Red Cross website to fill out your questionnaire and/or schedule your appointment. \n https://www.redcrossblood.org/give.html/drive-results?zipSponsor=packardpg
URL:https://packardprovinggrounds.org/event/red-cross-blood-drive-1-30-25/
LOCATION:Packard Proving Grounds Historic Site\, 49965 Van Dyke Ave\, Shelby Township\, MI\, 48317\, United States
CATEGORIES:Blood Drive
ATTACH;FMTTYPE=image/jpeg:https://packardprovinggrounds.org/wp-content/uploads/2024/02/Red-Cross-Blood-Drive.jpg
END:VEVENT
END:VCALENDAR