BEGIN:VCALENDAR
VERSION:2.0
PRODID:-//Packard Proving Grounds Historic Site Gift Shop - ECPv6.15.20//NONSGML v1.0//EN
CALSCALE:GREGORIAN
METHOD:PUBLISH
X-WR-CALNAME:Packard Proving Grounds Historic Site Gift Shop
X-ORIGINAL-URL:https://packardprovinggrounds.org
X-WR-CALDESC:Events for Packard Proving Grounds Historic Site Gift Shop
REFRESH-INTERVAL;VALUE=DURATION:PT1H
X-Robots-Tag:noindex
X-PUBLISHED-TTL:PT1H
BEGIN:VTIMEZONE
TZID:UTC
BEGIN:STANDARD
TZOFFSETFROM:+0000
TZOFFSETTO:+0000
TZNAME:UTC
DTSTART:20230101T000000
END:STANDARD
END:VTIMEZONE
BEGIN:VEVENT
DTSTART;TZID=UTC:20240712T170000
DTEND;TZID=UTC:20240712T220000
DTSTAMP:20260424T152058
CREATED:20240707T132531Z
LAST-MODIFIED:20240711T170936Z
UID:47325-1720803600-1720821600@packardprovinggrounds.org
SUMMARY:Night Market
DESCRIPTION:
URL:https://packardprovinggrounds.org/event/night-market/
LOCATION:Shelby Farmers Market at the Packard Proving Grounds Historic Site\, 49965 Van Dyke Ave\, Shelby Township\, MI\, 48317\, United States
CATEGORIES:Shelby Farmers Market
ATTACH;FMTTYPE=image/jpeg:https://packardprovinggrounds.org/wp-content/uploads/2024/07/nightmarket-featured.jpg
END:VEVENT
END:VCALENDAR