BEGIN:VCALENDAR
VERSION:2.0
PRODID:-//Packard Proving Grounds Historic Site Gift Shop - ECPv6.15.20//NONSGML v1.0//EN
CALSCALE:GREGORIAN
METHOD:PUBLISH
X-WR-CALNAME:Packard Proving Grounds Historic Site Gift Shop
X-ORIGINAL-URL:https://packardprovinggrounds.org
X-WR-CALDESC:Events for Packard Proving Grounds Historic Site Gift Shop
REFRESH-INTERVAL;VALUE=DURATION:PT1H
X-Robots-Tag:noindex
X-PUBLISHED-TTL:PT1H
BEGIN:VTIMEZONE
TZID:UTC
BEGIN:STANDARD
TZOFFSETFROM:+0000
TZOFFSETTO:+0000
TZNAME:UTC
DTSTART:20230101T000000
END:STANDARD
END:VTIMEZONE
BEGIN:VEVENT
DTSTART;TZID=UTC:20240804T110000
DTEND;TZID=UTC:20240804T160000
DTSTAMP:20260424T095508
CREATED:20240524T144842Z
LAST-MODIFIED:20240711T174140Z
UID:46906-1722769200-1722787200@packardprovinggrounds.org
SUMMARY:Chic & Unique Vintage Market
DESCRIPTION:We are so excited for our August market at the beautiful Packard Proving Grounds! This market will feature 100+ small businesses selling all sorts of wonderful items including: handmade signs & home decor\, boutique clothing & accessories\, garden & yard decor\, vintage & antique treasures\, bath & body items\, furniture\, jewelry\, pet & animal products\, repurposed items\, art & wall hangings\, candles and so much more! You’ll also find delicious food trucks and food businesses. \nThe market opens to everyone at 11a and the cost is $5 per person at the gate (cash only/under 12 free). Parking is free. \nTo join the market with your small business\, please register at ChicAndUniqueMI.com \nVendor Inquiries at ChicandUniqueMI.com/BecomeAVendor
URL:https://packardprovinggrounds.org/event/chic-unique-vintage-market/
LOCATION:Shelby Farmers Market at the Packard Proving Grounds Historic Site\, 49965 Van Dyke Ave\, Shelby Township\, MI\, 48317\, United States
CATEGORIES:Shelby Farmers Market
ATTACH;FMTTYPE=image/jpeg:https://packardprovinggrounds.org/wp-content/uploads/2024/05/CHICUNIQUE_LOGO_featured.jpg
END:VEVENT
END:VCALENDAR