BEGIN:VCALENDAR
VERSION:2.0
PRODID:-//Packard Proving Grounds Historic Site Gift Shop - ECPv6.15.20//NONSGML v1.0//EN
CALSCALE:GREGORIAN
METHOD:PUBLISH
X-WR-CALNAME:Packard Proving Grounds Historic Site Gift Shop
X-ORIGINAL-URL:https://packardprovinggrounds.org
X-WR-CALDESC:Events for Packard Proving Grounds Historic Site Gift Shop
REFRESH-INTERVAL;VALUE=DURATION:PT1H
X-Robots-Tag:noindex
X-PUBLISHED-TTL:PT1H
BEGIN:VTIMEZONE
TZID:UTC
BEGIN:STANDARD
TZOFFSETFROM:+0000
TZOFFSETTO:+0000
TZNAME:UTC
DTSTART:20250101T000000
END:STANDARD
END:VTIMEZONE
BEGIN:VEVENT
DTSTART;TZID=UTC:20260308T130000
DTEND;TZID=UTC:20260308T140000
DTSTAMP:20260421T133146
CREATED:20250930T180412Z
LAST-MODIFIED:20251201T174635Z
UID:50398-1772974800-1772978400@packardprovinggrounds.org
SUMMARY:Historical Speaker Series - C Harold Wills and the Wills Sainte Claire Story
DESCRIPTION:
URL:https://packardprovinggrounds.org/event/wills-sainte-claire-story/
LOCATION:Packard Proving Grounds Historic Site\, 49965 Van Dyke Ave\, Shelby Township\, MI\, 48317\, United States
CATEGORIES:Chic & Unique,Historical Speaker Series
ATTACH;FMTTYPE=image/jpeg:https://packardprovinggrounds.org/wp-content/uploads/2025/09/2025-HSS-mar8featured.jpg
END:VEVENT
BEGIN:VEVENT
DTSTART;TZID=UTC:20260322T080000
DTEND;TZID=UTC:20260322T140000
DTSTAMP:20260421T133146
CREATED:20260202T140229Z
LAST-MODIFIED:20260204T161956Z
UID:50950-1774166400-1774188000@packardprovinggrounds.org
SUMMARY:East Side A’s 54th Annual Swap Meet
DESCRIPTION:
URL:https://packardprovinggrounds.org/event/east-side-as-54th-annual-swap-meet/
LOCATION:Packard Proving Grounds Historic Site\, 49965 Van Dyke Ave\, Shelby Township\, MI\, 48317\, United States
CATEGORIES:Car Show,Chic & Unique
ATTACH;FMTTYPE=image/jpeg:https://packardprovinggrounds.org/wp-content/uploads/2026/02/swapmeet.jpg
ORGANIZER;CN="The Model 'A' Restorers Club":MAILTO:office@modelarestorersclub.org
END:VEVENT
BEGIN:VEVENT
DTSTART;TZID=UTC:20260322T130000
DTEND;TZID=UTC:20260322T140000
DTSTAMP:20260421T133146
CREATED:20251124T163421Z
LAST-MODIFIED:20251201T174223Z
UID:50727-1774184400-1774188000@packardprovinggrounds.org
SUMMARY:Historical Speaker Series - Diego Rivera:  The Detroit Industry Murals at the DIA
DESCRIPTION:
URL:https://packardprovinggrounds.org/event/historical-speaker-series-diego-rivera-the-detroit-industry-murals-at-the-dia/
LOCATION:Packard Proving Grounds Historic Site\, 49965 Van Dyke Ave\, Shelby Township\, MI\, 48317\, United States
CATEGORIES:Chic & Unique,Historical Speaker Series
ATTACH;FMTTYPE=image/jpeg:https://packardprovinggrounds.org/wp-content/uploads/2025/11/2025-HSS-mar22featured.jpg
END:VEVENT
BEGIN:VEVENT
DTSTART;VALUE=DATE:20260328
DTEND;VALUE=DATE:20260330
DTSTAMP:20260421T133146
CREATED:20251222T190602Z
LAST-MODIFIED:20251222T190602Z
UID:50829-1774656000-1774828799@packardprovinggrounds.org
SUMMARY:Wood Carvers Of Michigan - 2026 Wood Carvers Show
DESCRIPTION:
URL:https://packardprovinggrounds.org/event/wood-carvers-of-michigan-2026-wood-carvers-show/
LOCATION:Packard Proving Grounds Historic Site\, 49965 Van Dyke Ave\, Shelby Township\, MI\, 48317\, United States
CATEGORIES:Chic & Unique,Wood Carving
ATTACH;FMTTYPE=image/jpeg:https://packardprovinggrounds.org/wp-content/uploads/2025/12/2026-WoodCarvers-featured.jpg
END:VEVENT
END:VCALENDAR