BEGIN:VCALENDAR
VERSION:2.0
PRODID:-//Packard Proving Grounds Historic Site Gift Shop - ECPv6.15.20//NONSGML v1.0//EN
CALSCALE:GREGORIAN
METHOD:PUBLISH
X-WR-CALNAME:Packard Proving Grounds Historic Site Gift Shop
X-ORIGINAL-URL:https://packardprovinggrounds.org
X-WR-CALDESC:Events for Packard Proving Grounds Historic Site Gift Shop
REFRESH-INTERVAL;VALUE=DURATION:PT1H
X-Robots-Tag:noindex
X-PUBLISHED-TTL:PT1H
BEGIN:VTIMEZONE
TZID:UTC
BEGIN:STANDARD
TZOFFSETFROM:+0000
TZOFFSETTO:+0000
TZNAME:UTC
DTSTART:20250101T000000
END:STANDARD
END:VTIMEZONE
BEGIN:VEVENT
DTSTART;TZID=UTC:20260426T130000
DTEND;TZID=UTC:20260426T140000
DTSTAMP:20260420T190516
CREATED:20260216T160316Z
LAST-MODIFIED:20260227T205419Z
UID:51038-1777208400-1777212000@packardprovinggrounds.org
SUMMARY:Historical Speaker Series - Chasing Fortune: Local ‘49ers and the California Gold Rush
DESCRIPTION:
URL:https://packardprovinggrounds.org/event/historical-speaker-series-it-all-began-with-a-glint-and-a-glimmer/
LOCATION:Packard Proving Grounds Historic Site\, 49965 Van Dyke Ave\, Shelby Township\, MI\, 48317\, United States
CATEGORIES:Historical Speaker Series
ATTACH;FMTTYPE=image/jpeg:https://packardprovinggrounds.org/wp-content/uploads/2026/02/2025-HSS-arp26featured.jpg
END:VEVENT
END:VCALENDAR